BEGIN:VCALENDAR
VERSION:2.0
PRODID:-//ChamberMaster//Event Calendar 2.0//EN
METHOD:PUBLISH
X-PUBLISHED-TTL:P3D
REFRESH-INTERVAL:P3D
CALSCALE:GREGORIAN
BEGIN:VEVENT
DTSTART:20180529T230000Z
DTEND:20180530T010000Z
X-MICROSOFT-CDO-ALLDAYEVENT:FALSE
SUMMARY:City of Weslaco Office of Emergency Management Meeting
DESCRIPTION:The City of Weslaco Office of Emergency Management (OEM) invites all\n\nlocal businesses and community organizations to a town hall meeting where we will be informing and dispersing critical information to help during times of crisis. By participating\, you will be an integrate part of the OEM team.\n\nPlease join us as we inform the Community Stakeholders of the following:\n\n1. What does The City of Weslaco's Office of Emergency Management do?\n\n2. How preparing may help your business be resilient when disasters strike.\n\n3. What kind of important information is released by The City of Weslaco's Office of Emergency Management?\n\n4. What are we asking of our Community Stakeholders?
X-ALT-DESC;FMTTYPE=text/html:<p>The City of Weslaco Office of Emergency Management (OEM) invites all<br />\nlocal businesses and community organizations to a town hall meeting where we will be informing and dispersing critical information to help during times of crisis. By participating\, you will be an integrate part of the OEM team.</p>\n\n<p>Please join us as we inform the Community Stakeholders of the following:<br />\n1. What does The City of Weslaco&rsquo\;s Office of Emergency Management do?<br />\n2. How preparing may help your business be resilient when disasters strike.<br />\n3. What kind of important information is released by The City of Weslaco&rsquo\;s Office of Emergency Management?<br />\n4. What are we asking of our Community Stakeholders?</p>\n
LOCATION:First Baptist Church Gym 600 S. Kansas
UID:e.1244.16867
SEQUENCE:3
DTSTAMP:20260421T094620Z
URL:https://business.weslaco.com/events/details/city-of-weslaco-office-of-emergency-management-meeting-16867
END:VEVENT

END:VCALENDAR
