BEGIN:VCALENDAR
VERSION:2.0
PRODID:-//ChamberMaster//Event Calendar 2.0//EN
METHOD:PUBLISH
X-PUBLISHED-TTL:P3D
REFRESH-INTERVAL:P3D
CALSCALE:GREGORIAN
BEGIN:VEVENT
DTSTART:20171028T130000Z
DTEND:20171028T160000Z
X-MICROSOFT-CDO-ALLDAYEVENT:FALSE
SUMMARY:City of Weslaco's Clean Sweep
DESCRIPTION:The City of Weslaco\, along with help from our partners\, in an effort to keep our community looking beautiful and reducing public health and fire hazards\, are conducting an area wide clean up. The area targeted will be West of Airport from Business 83 to Pike and West of Dolores Huerta from Plaza North to Pike.\n\nBring all your unwanted items to get properly disposed of. We look forward to seeing you there.
X-ALT-DESC;FMTTYPE=text/html:<p>The City of Weslaco\, along with help from our partners\, in an effort to keep our community looking beautiful and reducing public health and fire hazards\, are conducting an area wide clean up. The area targeted will be West of Airport from Business 83 to Pike and West of Dolores Huerta from Plaza North to Pike.</p>\n\n<p>Bring all your unwanted items to get properly disposed of. We look forward to seeing you there.</p>\n
LOCATION:Mayor Pablo G. Pena City Park 300 N. Airport
UID:e.1244.14424
SEQUENCE:3
DTSTAMP:20260421T202306Z
URL:https://business.weslaco.com/events/details/city-of-weslaco-s-clean-sweep-14424
END:VEVENT

END:VCALENDAR
