BEGIN:VCALENDAR
VERSION:2.0
PRODID:-//ChamberMaster//Event Calendar 2.0//EN
METHOD:PUBLISH
X-PUBLISHED-TTL:P3D
REFRESH-INTERVAL:P3D
CALSCALE:GREGORIAN
BEGIN:VEVENT
DTSTART:20200707T140000Z
DTEND:20200707T150000Z
X-MICROSOFT-CDO-ALLDAYEVENT:FALSE
SUMMARY:City of Weslaco Virtual Update presented by the Weslaco Chamber
DESCRIPTION:Join us as we hear from Weslaco officials regarding city updates on COVID-19. Click here to register: \n\nhttps://us02web.zoom.us/j/89550737031?pwd=VExEVG9FR1o3TlNCUDEwSWNaRXNaQT09
X-ALT-DESC;FMTTYPE=text/html:<p>Join us as we hear from Weslaco officials regarding city updates on COVID-19. Click here to register:&nbsp\;<br />\n<a href="https://us02web.zoom.us/j/89550737031?pwd=VExEVG9FR1o3TlNCUDEwSWNaRXNaQT09">https://us02web.zoom.us/j/89550737031?pwd=VExEVG9FR1o3TlNCUDEwSWNaRXNaQT09</a><br />\n&nbsp\;</p>\n
LOCATION:
UID:e.1244.19476
SEQUENCE:3
DTSTAMP:20260419T125516Z
URL:https://business.weslaco.com/events/details/city-of-weslaco-virtual-update-presented-by-the-weslaco-chamber-19476
END:VEVENT

END:VCALENDAR
