BEGIN:VCALENDAR
VERSION:2.0
PRODID:-//ChamberMaster//Event Calendar 2.0//EN
METHOD:PUBLISH
X-PUBLISHED-TTL:P3D
REFRESH-INTERVAL:P3D
CALSCALE:GREGORIAN
BEGIN:VEVENT
DTSTART:20200421T140000Z
DTEND:20200421T150000Z
X-MICROSOFT-CDO-ALLDAYEVENT:FALSE
SUMMARY:City of Weslaco Weekly Update presented by the Weslaco Chamber
DESCRIPTION:Join us as we hear from Weslaco officials regarding city updates on COVID-19. Click here to register: https://zoom.us/meeting/register/tJcpc-ygqj8rH9y5pHLMiAo3Fo8FgBfZwOVR
X-ALT-DESC;FMTTYPE=text/html:Join us as we hear from Weslaco officials regarding city updates on COVID-19. Click here to register:&nbsp\;<a href="https://zoom.us/meeting/register/tJcpc-ygqj8rH9y5pHLMiAo3Fo8FgBfZwOVR">https://zoom.us/meeting/register/tJcpc-ygqj8rH9y5pHLMiAo3Fo8FgBfZwOVR</a>
LOCATION:https://zoom.us/meeting/register/tJcpc-ygqj8rH9y5pHLMiAo3Fo8FgBfZwOVR
UID:e.1244.19356
SEQUENCE:3
DTSTAMP:20260419T171624Z
URL:https://business.weslaco.com/events/details/city-of-weslaco-weekly-update-presented-by-the-weslaco-chamber-19356
END:VEVENT

END:VCALENDAR
