BEGIN:VCALENDAR
VERSION:2.0
PRODID:-//ChamberMaster//Event Calendar 2.0//EN
METHOD:PUBLISH
X-PUBLISHED-TTL:P3D
REFRESH-INTERVAL:P3D
CALSCALE:GREGORIAN
BEGIN:VEVENT
DTSTART:20200623T140000Z
DTEND:20200623T150000Z
X-MICROSOFT-CDO-ALLDAYEVENT:FALSE
SUMMARY:City of Weslaco Weekly Update presented by the Weslaco Chamber
DESCRIPTION:Join us as we hear from Weslaco officials regarding city updates on COVID-19. Click here to register: \n\n https://us02web.zoom.us/j/86475278996?pwd=Ym5ENUgwTzZUU2JHUk83aHVqSFZCUT09
X-ALT-DESC;FMTTYPE=text/html:<p>Join us as we hear from Weslaco officials regarding city updates on COVID-19. Click here to register:&nbsp\;<br />\n&nbsp\;<span style="font-family:calibri\,sans-serif\;"><span style="font-size:11.0pt\;"><a href="https://us02web.zoom.us/j/86475278996?pwd=Ym5ENUgwTzZUU2JHUk83aHVqSFZCUT09">https://us02web.zoom.us/j/86475278996?pwd=Ym5ENUgwTzZUU2JHUk83aHVqSFZCUT09</a></span></span></p>\n
LOCATION:
UID:e.1244.19426
SEQUENCE:3
DTSTAMP:20260419T142650Z
URL:https://business.weslaco.com/events/details/city-of-weslaco-weekly-update-presented-by-the-weslaco-chamber-19426
END:VEVENT

END:VCALENDAR
