BEGIN:VCALENDAR
VERSION:2.0
PRODID:-//ChamberMaster//Event Calendar 2.0//EN
METHOD:PUBLISH
X-PUBLISHED-TTL:P3D
REFRESH-INTERVAL:P3D
CALSCALE:GREGORIAN
BEGIN:VEVENT
DTSTART:20191106T150000Z
DTEND:20191106T160000Z
X-MICROSOFT-CDO-ALLDAYEVENT:FALSE
SUMMARY:Cleckler-Heald Elementary School/Project Fit America Ribbon Cutting
DESCRIPTION:Cleckler Heald Elementary has received the Project Fit America grant   one of two in the whole RGV! This goes towards fitness equipment at the school. Project Fit America awards grants to schools that receive indoor and outdoor fitness equipment\, as well as on-school site in-service training.
X-ALT-DESC;FMTTYPE=text/html:<span style="font-family:calibri\,sans-serif\;"><span style="font-size:11.0pt\;">Cleckler Heald Elementary has received the Project Fit America grant &ndash\; one of two in the whole RGV! This goes towards fitness equipment at the school. Project Fit America awards grants to schools that receive indoor and outdoor fitness equipment\, as well as on-school site in-service training.</span></span>
LOCATION:Cleckler Heald Elementary 1601 W. Sugarcane Dr. Weslaco\, TX
UID:e.1244.18814
SEQUENCE:3
DTSTAMP:20260420T031720Z
URL:https://business.weslaco.com/events/details/cleckler-heald-elementary-school-project-fit-america-ribbon-cutting-18814
END:VEVENT

END:VCALENDAR
