BEGIN:VCALENDAR
VERSION:2.0
PRODID:-//ChamberMaster//Event Calendar 2.0//EN
METHOD:PUBLISH
X-PUBLISHED-TTL:P3D
REFRESH-INTERVAL:P3D
CALSCALE:GREGORIAN
BEGIN:VEVENT
DTSTART:20161116T000000Z
DTEND:20161116T030000Z
X-MICROSOFT-CDO-ALLDAYEVENT:FALSE
SUMMARY:Cleo and Evey at Frontera Audubon
DESCRIPTION:Frontera Audubon will host Cleo and Evey for an impromptu Concert on the Lawn at 6pm on Tuesday\, November 15th. The concert is $5\, and any donations made will go toward Frontera Audubon's mission. Please bring your lawn chairs. Refreshments and non-alcoholic beverages will be served.\n\n\n\nWe are allowing BYOB (if you're 21 and over).\n\n\n\nThe event is given by Cleo and Evey as a tribute to Rich\, Cindy and Sophie (also part of the Frontera family). Come celebrate!
X-ALT-DESC;FMTTYPE=text/html:<span class="_4n-j fsl">Frontera Audubon will host Cleo and Evey for an impromptu Concert on the Lawn at 6pm on Tuesday\, November 15th. The concert is $5\, and any donations made will go toward Frontera Audubon&#39\;s mission. Please bring your lawn chairs. Refreshments and non-alcoholic beverages will be served.<br />\n<br />\nWe are allowing BYOB (if you&#39\;re 21 and over).<br />\n<br />\nThe event is given by Cleo and Evey as a tribute to Rich\, Cindy and Sophie (also part of the Frontera family). Come celebrate!</span>
LOCATION:1101 S. Texas Weslaco\, TX
UID:e.1244.11406
SEQUENCE:3
DTSTAMP:20260422T133933Z
URL:https://business.weslaco.com/events/details/cleo-and-evey-at-frontera-audubon-11406
END:VEVENT

END:VCALENDAR
