BEGIN:VCALENDAR
VERSION:2.0
PRODID:-//ChamberMaster//Event Calendar 2.0//EN
METHOD:PUBLISH
X-PUBLISHED-TTL:P3D
REFRESH-INTERVAL:P3D
CALSCALE:GREGORIAN
BEGIN:VEVENT
DTSTART:20220110T140000Z
DTEND:20220114T180000Z
X-MICROSOFT-CDO-ALLDAYEVENT:FALSE
SUMMARY:Coffee Bar Sponsored by: Welcome Home RGV
DESCRIPTION:Stop by our Coffee Bar sponsored by Welcome Home RGV!
X-ALT-DESC;FMTTYPE=text/html:Stop by our Coffee Bar sponsored by Welcome Home RGV!&nbsp\;
LOCATION:Weslaco Visitors Center 275 S. Kansas Weslaco\, TX 78596
UID:e.1244.20594
SEQUENCE:3
DTSTAMP:20260421T235016Z
URL:https://business.weslaco.com/events/details/coffee-bar-sponsored-by-welcome-home-rgv-20594
END:VEVENT

END:VCALENDAR
