BEGIN:VCALENDAR
VERSION:2.0
PRODID:-//ChamberMaster//Event Calendar 2.0//EN
METHOD:PUBLISH
X-PUBLISHED-TTL:P3D
REFRESH-INTERVAL:P3D
CALSCALE:GREGORIAN
BEGIN:VEVENT
DTSTART:20180418T220000Z
DTEND:20180419T010000Z
X-MICROSOFT-CDO-ALLDAYEVENT:FALSE
SUMMARY:Community Day at Buffalo Wild Wings
DESCRIPTION:10% of entire sales (food and alcohol) will be donated to the Weslaco Boys & Girls Club. Donations are accepted. Enjoy all kinds of activities in the parking lot including a basketball court\, dunking booth\, door prize drawings and more!
X-ALT-DESC;FMTTYPE=text/html:<span style="color:black\;"><span style="font-family:calibri\,sans-serif\;">10% of entire sales (food and alcohol) will be donated to the Weslaco Boys &amp\; Girls Club. Donations are accepted. Enjoy all kinds of activities in the parking lot including </span></span><span style="color:black\;"><span style="font-family:calibri\,sans-serif\;">a basketball court\, dunking booth\, door prize drawings and more! </span></span><br />\n&nbsp\;
LOCATION:Buffalo Wild Wings 1909 W. Expressway 83\, Weslaco
UID:e.1244.15862
SEQUENCE:3
DTSTAMP:20260421T093539Z
URL:https://business.weslaco.com/events/details/community-day-at-buffalo-wild-wings-15862
END:VEVENT

END:VCALENDAR
