BEGIN:VCALENDAR
VERSION:2.0
PRODID:-//ChamberMaster//Event Calendar 2.0//EN
METHOD:PUBLISH
X-PUBLISHED-TTL:P3D
REFRESH-INTERVAL:P3D
CALSCALE:GREGORIAN
BEGIN:VEVENT
DTSTART:20160713T163000Z
DTEND:20160713T180000Z
X-MICROSOFT-CDO-ALLDAYEVENT:FALSE
SUMMARY:Company Culture Reboot Lunch and Learn Seminar
DESCRIPTION:The Weslaco Chamber of Commerce will host a Lunch and Learn Seminar on Wednesday\, July 13 from 11:30 am to 1 pm at the Business Visitor and Event Center.  "Company Culture Reboot: Boost sales by improving your company culture" will be presented by Mark Hanna.  Mark will discuss how revising and updating your company culture can improve a company's sales.  The fee is $10 for members\, $20 for non-members.  Call 968-2102 to RSVP.
X-ALT-DESC;FMTTYPE=text/html:The Weslaco Chamber of Commerce will host a Lunch and Learn Seminar on Wednesday\, July 13 from 11:30 am to 1 pm at the Business Visitor and Event Center.&nbsp\; &ldquo\;Company Culture Reboot: Boost sales by improving your company culture&rdquo\; will be presented by Mark Hanna.&nbsp\; Mark will discuss how revising and updating your company culture can improve a company&rsquo\;s sales.&nbsp\; The fee is $10 for members\, $20 for non-members.&nbsp\; Call 968-2102 to RSVP.&nbsp\;
LOCATION:Business Visitor & Event Center 275 S. Kansas
UID:e.1244.10984
SEQUENCE:3
DTSTAMP:20260422T201659Z
URL:https://business.weslaco.com/events/details/company-culture-reboot-lunch-and-learn-seminar-07-13-2016-10984
END:VEVENT

END:VCALENDAR
