BEGIN:VCALENDAR
VERSION:2.0
PRODID:-//ChamberMaster//Event Calendar 2.0//EN
METHOD:PUBLISH
X-PUBLISHED-TTL:P3D
REFRESH-INTERVAL:P3D
CALSCALE:GREGORIAN
BEGIN:VEVENT
DTSTART:20160615T000000Z
DTEND:20160615T030000Z
X-MICROSOFT-CDO-ALLDAYEVENT:FALSE
SUMMARY:Concert on the Lawn
DESCRIPTION:Frontera Audubon will host Cleo and Evey for an impromptu Concert on the Lawn at 7 pm.  Refreshments and non-alcoholic beverages will be served.  BYOB is allowed for 21 and over.
X-ALT-DESC;FMTTYPE=text/html:Frontera Audubon will host Cleo and Evey for an impromptu Concert on the Lawn at 7 pm. &nbsp\;Refreshments and non-alcoholic beverages will be served. &nbsp\;BYOB is allowed for 21 and over.&nbsp\;
LOCATION:Frontera Audubon 1101 S. Texas
UID:e.1244.10975
SEQUENCE:3
DTSTAMP:20260422T214911Z
URL:https://business.weslaco.com/events/details/concert-on-the-lawn-06-14-2016-10975
END:VEVENT

END:VCALENDAR
