BEGIN:VCALENDAR
VERSION:2.0
PRODID:-//ChamberMaster//Event Calendar 2.0//EN
METHOD:PUBLISH
X-PUBLISHED-TTL:P3D
REFRESH-INTERVAL:P3D
CALSCALE:GREGORIAN
BEGIN:VEVENT
DTSTART:20170517T163000Z
DTEND:20170517T180000Z
X-MICROSOFT-CDO-ALLDAYEVENT:FALSE
SUMMARY:Constant Contact Quickstart Email Workshop
DESCRIPTION:The Weslaco Chamber of Commerce and Constant Contact will host a Quickstart Email Marketing Workshop. This FREE seminar will will present a live\, guided demonstration on the tools and features inside Constant Contact's email marketing system.  In this time-efficient\, highly practical session\, you will learn the basics so you can get going with your own email marketing campaigns. Attendees receive:\n\n	Opportunity to start email marketing with a special discount\n	FREE custom email template design for your business ($199 value)\n	FREE customer support\n	FREE Educational Webinars\, Tutorials and Guides at the Constant Contact Learning Center\n	FREE local education seminars to stay on track throughout the year\n\n \n\nComputers/laptops not needed to attend this workshop. No experience required. Lunch will be provided.
X-ALT-DESC;FMTTYPE=text/html:The Weslaco Chamber of Commerce and Constant Contact will host a Quickstart Email Marketing Workshop. This FREE seminar will will present a live\, guided demonstration on the tools and features inside Constant Contact&#39\;s email marketing system.&nbsp\; In this time-efficient\, highly practical session\, you will learn the basics so you can get going with your own email marketing campaigns. Attendees receive:\n<ul>\n	<li>Opportunity to start email marketing with a special discount</li>\n	<li>FREE custom email template design for your business ($199 value)</li>\n	<li>FREE customer support</li>\n	<li>FREE Educational Webinars\, Tutorials and Guides at the Constant Contact Learning Center</li>\n	<li>FREE local education seminars to stay on track throughout the year</li>\n</ul>\n&nbsp\;<br />\nComputers/laptops not needed to attend this workshop. No experience required. Lunch will be provided.<br />\n&nbsp\;
LOCATION:Weslaco Business Visitor & Event Center 275 S. Kansas
UID:e.1244.12019
SEQUENCE:3
DTSTAMP:20260422T032328Z
URL:https://business.weslaco.com/events/details/constant-contact-quickstart-email-workshop-12019
END:VEVENT

END:VCALENDAR
