BEGIN:VCALENDAR
VERSION:2.0
PRODID:-//ChamberMaster//Event Calendar 2.0//EN
METHOD:PUBLISH
X-PUBLISHED-TTL:P3D
REFRESH-INTERVAL:P3D
CALSCALE:GREGORIAN
BEGIN:VEVENT
DTSTART:20200312T230000Z
DTEND:20200313T010000Z
X-MICROSOFT-CDO-ALLDAYEVENT:FALSE
SUMMARY:Coronavirus: Awareness and Preparedness
DESCRIPTION:Are you worried about the spread of the Coronavirus? STC Biology Department faculties have teamed up with Hidalgo County Health Department to provide important information regarding this new viral disease.
X-ALT-DESC;FMTTYPE=text/html:Are you worried about the spread of the Coronavirus? STC Biology Department faculties have teamed up with Hidalgo County Health Department to provide important information regarding this new viral disease.
LOCATION:South Texas College - Pecan Campus
UID:e.1244.19339
SEQUENCE:3
DTSTAMP:20260419T183306Z
URL:https://business.weslaco.com/events/details/coronavirus-awareness-and-preparedness-19339
END:VEVENT

END:VCALENDAR
