BEGIN:VCALENDAR
VERSION:2.0
PRODID:-//ChamberMaster//Event Calendar 2.0//EN
METHOD:PUBLISH
X-PUBLISHED-TTL:P3D
REFRESH-INTERVAL:P3D
CALSCALE:GREGORIAN
BEGIN:VEVENT
DTSTART:20200409T150000Z
DTEND:20200409T160000Z
X-MICROSOFT-CDO-ALLDAYEVENT:FALSE
SUMMARY:Covid-19 Tax Relief Webinar
DESCRIPTION:The IRS has established a special section focused on steps to help businesses and others affected by the coronavirus. \n\nIn response to the national emergency and our advocacy to educate our business community WYCOTAX will be conducting a 4-week Facebook live webinar on the WYCOTAX page regarding CORONA Virus Tax Relief in terms of the following areas:\n\n\n\n1. IRS extended filing deadline - April 2\n\n2. Tax credits for small businesses to recover the cost of providing Corona-virus related leave - April 9 \n\n3. Guidance on deferring tax payments due to COVID outbreak-19 outbreak - April 16\n\nPlus\n\n4. Coronavirus (COVID-19): Small Business Guidance & Loan Requirements - April 23 \n\n\n\nWe do truly appreciate all business organizations that can share on their pages and email blasts to all other businesses who will benefit from this information. \n\n\n\nThank you.\n\n\n\nSpeaker: \n\nChristopher Wycoco\n\nCEO\n\nBusiness Owner\n\nTax Professional\n\n2018 Minority Business of the Year SBA\n\nIRS Certified Acceptance Agent\n\nIRS Audit Resolved - More than $321\,000 collection letters.
X-ALT-DESC;FMTTYPE=text/html:<span style="color:rgb(29\, 33\, 41)\; font-size:14px">The IRS has established a special section focused on steps to help businesses and others affected by the coronavirus.&nbsp\;</span><br />\n<span style="color:rgb(29\, 33\, 41)\; font-size:14px">In response to the national emergency and our advocacy to educate our business community WYCOTAX will be conducting a 4-week Facebook live webinar on the WYCOTAX page regarding CORONA Virus Tax Relief in terms of the following areas:</span><br />\n<br />\n<span style="color:rgb(29\, 33\, 41)\; font-size:14px">1. IRS extended filing deadline - April 2</span><br />\n<span style="color:rgb(29\, 33\, 41)\; font-size:14px">2. Tax credits for small businesses to recover the cost of providing Corona-virus related leave - April 9&nbsp\;</span><br />\n<span style="color:rgb(29\, 33\, 41)\; font-size:14px">3. Guidance on deferring tax payments due to COVID outbreak-19 outbreak -&nbsp\;</span><span style="color:rgb(29\, 33\, 41)\; font-size:14px">April 16</span><br />\n<span style="color:rgb(29\, 33\, 41)\; font-size:14px">Plus</span><br />\n<span style="color:rgb(29\, 33\, 41)\; font-size:14px">4. Coronavirus (COVID-19): Small Business Guidance &amp\; Loan Requirements&nbsp\;</span>-&nbsp\;<span style="color:rgb(29\, 33\, 41)\; font-size:14px">April 23&nbsp\;</span><br />\n<br />\n<span style="color:rgb(29\, 33\, 41)\; font-size:14px">We do truly appreciate all business organizations that can share on their pages and email blasts to all other businesses who will benefit from this information.&nbsp\;</span><br />\n<br />\n<span style="color:rgb(29\, 33\, 41)\; font-size:14px">Thank you.</span><br />\n<br />\n<span style="color:rgb(29\, 33\, 41)\; font-size:14px">Speaker:&nbsp\;</span><br />\n<span style="color:rgb(29\, 33\, 41)\; font-size:14px">Christopher Wycoco</span><br />\n<span style="color:rgb(29\, 33\, 41)\; font-size:14px">CEO</span><br />\n<span style="color:rgb(29\, 33\, 41)\; font-size:14px">Business Owner</span><br />\n<span style="color:rgb(29\, 33\, 41)\; font-size:14px">Tax Professional</span><br />\n<span style="color:rgb(29\, 33\, 41)\; font-size:14px">2018 Minority Business of the Year SBA</span><br />\n<span style="color:rgb(29\, 33\, 41)\; font-size:14px">IRS Certified Acceptance Agent</span><br />\n<span style="color:rgb(29\, 33\, 41)\; font-size:14px">IRS Audit Resolved - More than $321\,000 collection letters.</span>
LOCATION:Online on Facebook LIVE. Click on this link to join: https://www.facebook.com/events/221261682562653/
UID:e.1244.19345
SEQUENCE:3
DTSTAMP:20260419T171107Z
URL:https://business.weslaco.com/events/details/covid-19-tax-relief-webinar-04-09-2020-19345
END:VEVENT

END:VCALENDAR
