BEGIN:VCALENDAR
VERSION:2.0
PRODID:-//ChamberMaster//Event Calendar 2.0//EN
METHOD:PUBLISH
X-PUBLISHED-TTL:P3D
REFRESH-INTERVAL:P3D
CALSCALE:GREGORIAN
BEGIN:VEVENT
DTSTART:20150721T150000Z
DTEND:20150721T170000Z
X-MICROSOFT-CDO-ALLDAYEVENT:FALSE
SUMMARY:Craft Day at Frontera Audubon
DESCRIPTION:For ages 8 yrs and up.  Children must be accompanied by an adult.
X-ALT-DESC;FMTTYPE=text/html:For ages 8 yrs and up. &nbsp\;Children must be accompanied by an adult.&nbsp\;
LOCATION:Frontera Audubon 1101 S. Texas
UID:e.1244.6691
SEQUENCE:3
DTSTAMP:20260423T162321Z
URL:https://business.weslaco.com/events/details/craft-day-at-frontera-audubon-07-21-2015-6691
END:VEVENT

END:VCALENDAR
