BEGIN:VCALENDAR
VERSION:2.0
PRODID:-//ChamberMaster//Event Calendar 2.0//EN
METHOD:PUBLISH
X-PUBLISHED-TTL:P3D
REFRESH-INTERVAL:P3D
CALSCALE:GREGORIAN
BEGIN:VEVENT
DTSTART:20161027T000000Z
DTEND:20161027T011500Z
X-MICROSOFT-CDO-ALLDAYEVENT:FALSE
SUMMARY:Creatures in the Night at Frontera Audubon
DESCRIPTION:*In case of rain this event will be postponed for the following week!*\n\nSee what nocturnal creatures await along the Thicket Trail on our only night tour. Our guides will lead the group by flashlight and we will see what surprises we might find! We will look for spiders\, scorpions\, bats\, frogs\, toads\, and nocturnal birds like pauraques and owls. Bring a flashlight\, bug spray and wear closed-toe shoes! This event will take place every last Wednesday of the month!
X-ALT-DESC;FMTTYPE=text/html:*In case of rain this event will be postponed for the following week!*<br />\nSee what nocturnal creatures await along the Thicket Trail on our only night tour. Our guides will lead the group by flashlight and we will see what surprises we might find! We will look for spiders\, scorpions\, bats\, frogs\, toads\, and nocturnal birds like pauraques and owls. Bring a flashlight\, bug spray and wear closed-toe shoes! This event will take place every last Wednesday of the month!<br />\n&nbsp\;<br />\n&nbsp\;
LOCATION:Frontera Audubon 1101 S. Texas
UID:e.1244.11049
SEQUENCE:3
DTSTAMP:20260422T151134Z
URL:https://business.weslaco.com/events/details/creatures-in-the-night-at-frontera-audubon-11049
END:VEVENT

END:VCALENDAR
