BEGIN:VCALENDAR
VERSION:2.0
PRODID:-//ChamberMaster//Event Calendar 2.0//EN
METHOD:PUBLISH
X-PUBLISHED-TTL:P3D
REFRESH-INTERVAL:P3D
CALSCALE:GREGORIAN
BEGIN:VEVENT
DTSTART:20220123T160000Z
DTEND:20220123T230000Z
X-MICROSOFT-CDO-ALLDAYEVENT:FALSE
SUMMARY:Cricut Class
DESCRIPTION:A Cricut class Friendship Creations style. Where we will share everything we know. You will learn to use the Design Space program from head to toe\, cut different materials. We will share all our tips\, experiences of more than 7 years making crafts and money with the Cricut Machine. You cannot miss it because it will be a semi-private and unique class with limited participant. Includes support material\, snacks\, food\, materials to practice what they have learned\, certificate of participation and more surprises. Meet our work on our social Media Instagram - Facebook and contact us for more details and how to reserve your spot.
X-ALT-DESC;FMTTYPE=text/html:A Cricut class Friendship Creations style. Where we will share everything we know. You will learn to use the Design Space program from head to toe\, cut different materials. We will share all our tips\, experiences of more than 7 years making crafts and money with the Cricut Machine. You cannot miss it because it will be a semi-private and unique class with limited participant. Includes support material\, snacks\, food\, materials to practice what they have learned\, certificate of participation and more surprises. Meet our work on our social Media Instagram - Facebook and contact us for more details and how to reserve your spot.
LOCATION:Hampton Inn by Hilton Weslaco\, TX 1004 Fairfield Blvd\, Weslaco\, TX 78596 Valley Meeting Room
UID:e.1244.20597
SEQUENCE:3
DTSTAMP:20260421T220017Z
URL:https://business.weslaco.com/events/details/cricut-class-20597
END:VEVENT

END:VCALENDAR
