BEGIN:VCALENDAR
VERSION:2.0
PRODID:-//ChamberMaster//Event Calendar 2.0//EN
METHOD:PUBLISH
X-PUBLISHED-TTL:P3D
REFRESH-INTERVAL:P3D
CALSCALE:GREGORIAN
BEGIN:VEVENT
DTSTART:20200321T150000Z
DTEND:20200321T230000Z
X-MICROSOFT-CDO-ALLDAYEVENT:FALSE
SUMMARY:Customer Appreciation Day at El Disco Super Center
DESCRIPTION:- Enjoy 20% off the entire store all day! Register for a $250 gift certificate from 10 am to 1 pm\, drawing at 3 pm. \n\n- Enjoy free tacos and tamales from 1 pm to 2 pm\n\n- Mariachis and folkloric dancing from 12 pm to 2 pm\n\n- Free margaritas while they last
X-ALT-DESC;FMTTYPE=text/html:- Enjoy 20% off the entire store all day! Register for a $250 gift certificate from 10 am to 1 pm\, drawing at 3 pm.&nbsp\;<br />\n- Enjoy free tacos and tamales from 1 pm to 2 pm<br />\n- Mariachis and folkloric dancing from 12 pm to 2 pm<br />\n- Free margaritas while they last
LOCATION:El Disco Super Center\, LLC 2012 S. International Blvd Progreso Lakes\, TX 78596
UID:e.1244.19340
SEQUENCE:3
DTSTAMP:20260419T201147Z
URL:https://business.weslaco.com/events/details/customer-appreciation-day-at-el-disco-super-center-19340
END:VEVENT

END:VCALENDAR
