BEGIN:VCALENDAR
VERSION:2.0
PRODID:-//ChamberMaster//Event Calendar 2.0//EN
METHOD:PUBLISH
X-PUBLISHED-TTL:P3D
REFRESH-INTERVAL:P3D
CALSCALE:GREGORIAN
BEGIN:VEVENT
DTSTART:20180914T133000Z
DTEND:20180914T143000Z
X-MICROSOFT-CDO-ALLDAYEVENT:FALSE
SUMMARY:Cyber Security Seminar
DESCRIPTION:This presentation will center on the various types of threats/risks businesses face in their daily business operations while on the internet. It will also cover tactics on how to combat those threats and minimize exposure to potential cyber security risks. Crowd participation and a Q/A session will be integrated in the event in order to help everyone get the most out of this session!
X-ALT-DESC;FMTTYPE=text/html:<span style="font-size:12px\;"><span style="font-family:arial\;"><span style="color:black\;">This presentation will center on the various types of threats/risks businesses face in their daily business operations while on the internet. It will also cover tactics on how to combat those threats and minimize exposure to potential cyber security risks. Crowd participation and a Q/A session will be integrated in the event in order to help everyone get the most out of this session!</span></span></span><br />\n&nbsp\;
LOCATION:Weslaco Chamber of Commerce 275 S. Kansas
UID:e.1244.16969
SEQUENCE:3
DTSTAMP:20260421T005203Z
URL:https://business.weslaco.com/events/details/cyber-security-seminar-16969
END:VEVENT

END:VCALENDAR
