BEGIN:VCALENDAR
VERSION:2.0
PRODID:-//ChamberMaster//Event Calendar 2.0//EN
METHOD:PUBLISH
X-PUBLISHED-TTL:P3D
REFRESH-INTERVAL:P3D
CALSCALE:GREGORIAN
BEGIN:VEVENT
DTSTART;VALUE=DATE:20220611
DTEND;VALUE=DATE:20220612
TRANSP:TRANSPARENT
X-MICROSOFT-CDO-ALLDAYEVENT:TRUE
SUMMARY:Dark Knight Rising CrossFit Competition
DESCRIPTION:Come join the fun and watch over 20 athletes from the RGV and San Antonio give it their best to earn a podium spot. We will have vendors set up...stop by and cheer on our athletes\, buy some goodies\, and SUPPORT LOCAL! Hope to see YOU there! \n\n\n\nVendors:\n\nCrazy About Mangonadas\n\nSaenz Nutrition\n\nHerculus\n\nCambro\n\nScentsy - Jessica Eckbledt\n\nMid 90s Retro\n\nBarbell Alpha\n\nExtreme Nutrition\n\nTumblers and Tees by EX\n\nPalm Valley Animal Shelter
X-ALT-DESC;FMTTYPE=text/html:<p>Come join the fun and watch over 20 athletes from the RGV and San Antonio give it their best to earn a podium spot. We will have vendors set up...stop by and cheer on our athletes\, buy some goodies\, and SUPPORT LOCAL! Hope to see YOU there!&nbsp\;<br />\n<br />\nVendors:</p>\n\n<p>Crazy About Mangonadas<br />\nSaenz Nutrition<br />\nHerculus<br />\nCambro<br />\nScentsy - Jessica Eckbledt<br />\nMid 90s Retro<br />\nBarbell Alpha<br />\nExtreme Nutrition<br />\nTumblers and Tees by EX<br />\nPalm Valley Animal Shelter&nbsp\;</p>\n
LOCATION:Raven Fitness 805 W. Pike Blvd Weslaco\, TX
UID:e.1244.21610
SEQUENCE:3
DTSTAMP:20260421T134956Z
URL:https://business.weslaco.com/events/details/dark-knight-rising-crossfit-competition-21610
END:VEVENT

END:VCALENDAR
