BEGIN:VCALENDAR
VERSION:2.0
PRODID:-//ChamberMaster//Event Calendar 2.0//EN
METHOD:PUBLISH
X-PUBLISHED-TTL:P3D
REFRESH-INTERVAL:P3D
CALSCALE:GREGORIAN
BEGIN:VEVENT
DTSTART;VALUE=DATE:20220611
DTEND;VALUE=DATE:20220612
TRANSP:TRANSPARENT
X-MICROSOFT-CDO-ALLDAYEVENT:TRUE
SUMMARY:Dark Night Rising - CrossFit Competition hosted by Raven Fitness
DESCRIPTION:Raven Fitness will be hosting its first CrossFit competition June 11th. Divisions are Female individual\, Male individual\, and M/F Team (all Novice\, Scaled\, and RX).\n\n\n\nCheck us out on Instagram @ravenfitnessrgv and @dark_night_rising_ravencomp and on Facebook.
X-ALT-DESC;FMTTYPE=text/html:Raven Fitness will be hosting its first CrossFit competition June 11th. Divisions are Female individual\, Male&nbsp\;individual\, and M/F Team (all Novice\, Scaled\, and RX).<br />\n<br />\nCheck us out on Instagram @ravenfitnessrgv and @dark_night_rising_ravencomp and on Facebook.<br />\n<br />\n<br />\n&nbsp\;
LOCATION:805 W. Pike Blvd Weslaco\, TX 78596
UID:e.1244.20801
SEQUENCE:3
DTSTAMP:20260421T140446Z
URL:https://business.weslaco.com/events/details/dark-night-rising-crossfit-competition-hosted-by-raven-fitness-20801
END:VEVENT

END:VCALENDAR
