BEGIN:VCALENDAR
VERSION:2.0
PRODID:-//ChamberMaster//Event Calendar 2.0//EN
METHOD:PUBLISH
X-PUBLISHED-TTL:P3D
REFRESH-INTERVAL:P3D
CALSCALE:GREGORIAN
BEGIN:VEVENT
DTSTART:20160609T223000Z
DTEND:20160609T233000Z
X-MICROSOFT-CDO-ALLDAYEVENT:FALSE
SUMMARY:Daydream Family Dentistry Ribbon Cutting
DESCRIPTION:
X-ALT-DESC;FMTTYPE=text/html:
LOCATION:519 S. Missouri
UID:e.1244.10965
SEQUENCE:3
DTSTAMP:20260422T215523Z
URL:https://business.weslaco.com/events/details/daydream-family-dentistry-ribbon-cutting-06-09-2016-10965
END:VEVENT

END:VCALENDAR
