BEGIN:VCALENDAR
VERSION:2.0
PRODID:-//ChamberMaster//Event Calendar 2.0//EN
METHOD:PUBLISH
X-PUBLISHED-TTL:P3D
REFRESH-INTERVAL:P3D
CALSCALE:GREGORIAN
BEGIN:VEVENT
DTSTART:20161110T000000Z
DTEND:20161110T020000Z
X-MICROSOFT-CDO-ALLDAYEVENT:FALSE
SUMMARY:Del Angel Funeraria/Highland Memorial Home Grand Opening
DESCRIPTION:Highland Memorial will be honoring the Women Together (Mujeres Unidas) Organization. Enjoy entertainment\, refreshments\, kids activities and giveaways.
X-ALT-DESC;FMTTYPE=text/html:Highland Memorial will be honoring the Women Together (Mujeres Unidas) Organization. Enjoy entertainment\, refreshments\, kids activities and giveaways.
LOCATION:6705 N. FM 88 Weslaco\, TX
UID:e.1244.11403
SEQUENCE:3
DTSTAMP:20260422T151848Z
URL:https://business.weslaco.com/events/details/del-angel-funeraria-highland-memorial-home-grand-opening-11403
END:VEVENT

END:VCALENDAR
