BEGIN:VCALENDAR
VERSION:2.0
PRODID:-//ChamberMaster//Event Calendar 2.0//EN
METHOD:PUBLISH
X-PUBLISHED-TTL:P3D
REFRESH-INTERVAL:P3D
CALSCALE:GREGORIAN
BEGIN:VEVENT
DTSTART:20181106T220000Z
DTEND:20181106T230000Z
X-MICROSOFT-CDO-ALLDAYEVENT:FALSE
SUMMARY:Designer Zoo Closet Exchange Ribbon Cutting
DESCRIPTION:
X-ALT-DESC;FMTTYPE=text/html:
LOCATION:1700 N. Texas Blvd\, Ste. 101 Weslaco\, TX
UID:e.1244.17000
SEQUENCE:3
DTSTAMP:20260420T214433Z
URL:https://business.weslaco.com/events/details/designer-zoo-closet-exchange-ribbon-cutting-17000
END:VEVENT

END:VCALENDAR
