BEGIN:VCALENDAR
VERSION:2.0
PRODID:-//ChamberMaster//Event Calendar 2.0//EN
METHOD:PUBLISH
X-PUBLISHED-TTL:P3D
REFRESH-INTERVAL:P3D
CALSCALE:GREGORIAN
BEGIN:VEVENT
DTSTART:20160123T140000Z
DTEND:20160123T180000Z
X-MICROSOFT-CDO-ALLDAYEVENT:FALSE
SUMMARY:DHR Community Health Fair
DESCRIPTION:Free health screenings and information: cholesterol\, diabetes\, blood pressure\, hearing\, vision\, behavioral health\, medical weight loss\, rehab\, women's health\, dental\, fresh produce market and pharmacy chat.  Door prizes and more!
X-ALT-DESC;FMTTYPE=text/html:Free health screenings and information: cholesterol\, diabetes\, blood pressure\, hearing\, vision\, behavioral health\, medical weight loss\, rehab\, women&#39\;s health\, dental\, fresh produce market and pharmacy chat. &nbsp\;Door prizes and more!
LOCATION:Edinburg Conference Center at Renaissance 118 Paseo del Prado Edinburg\, TX 78539
UID:e.1244.9103
SEQUENCE:3
DTSTAMP:20260423T065435Z
URL:https://business.weslaco.com/events/details/dhr-community-health-fair-01-23-2016-9103
END:VEVENT

END:VCALENDAR
