BEGIN:VCALENDAR
VERSION:2.0
PRODID:-//ChamberMaster//Event Calendar 2.0//EN
METHOD:PUBLISH
X-PUBLISHED-TTL:P3D
REFRESH-INTERVAL:P3D
CALSCALE:GREGORIAN
BEGIN:VEVENT
DTSTART:20170114T140000Z
DTEND:20170114T180000Z
X-MICROSOFT-CDO-ALLDAYEVENT:FALSE
SUMMARY:DHR Community Health Fair
DESCRIPTION:Doctors Hospital at Renaissance presents their 11th Annual Community Health Fair.  Take advantage of FREE health screenings and information on cholesterol\, diabetes\, blood pressure\, vision\, women's health and more! Enjoy the fresh produce market\, CPR demonstrations\, door prizes and MORE!
X-ALT-DESC;FMTTYPE=text/html:Doctors Hospital at Renaissance presents their 11th Annual Community Health Fair.&nbsp\; Take advantage of FREE health screenings and information on cholesterol\, diabetes\, blood pressure\, vision\, women&#39\;s health and more! Enjoy the fresh produce market\, CPR demonstrations\, door prizes and MORE!
LOCATION:Edinburg Conference Center at Renaissance 118 Paseo del Prado Edinburg\, TX 78539
UID:e.1244.11506
SEQUENCE:3
DTSTAMP:20260422T102752Z
URL:https://business.weslaco.com/events/details/dhr-community-health-fair-11506
END:VEVENT

END:VCALENDAR
