BEGIN:VCALENDAR
VERSION:2.0
PRODID:-//ChamberMaster//Event Calendar 2.0//EN
METHOD:PUBLISH
X-PUBLISHED-TTL:P3D
REFRESH-INTERVAL:P3D
CALSCALE:GREGORIAN
BEGIN:VEVENT
DTSTART:20140822T170000Z
DTEND:20140823T170000Z
X-MICROSOFT-CDO-ALLDAYEVENT:FALSE
SUMMARY:DHR Fishing for Hope Tournament
DESCRIPTION:9th Annual Doctors Hospital at Renaissance Fishing For Hope Tournament
X-ALT-DESC;FMTTYPE=text/html:9th Annual Doctors Hospital at Renaissance Fishing For Hope Tournament
LOCATION:Louie's Backyard South Padre Island\, TX
UID:e.1244.5935
SEQUENCE:3
DTSTAMP:20260424T104915Z
URL:https://business.weslaco.com/events/details/dhr-fishing-for-hope-tournament-08-22-2014-5935
END:VEVENT

END:VCALENDAR
