BEGIN:VCALENDAR
VERSION:2.0
PRODID:-//ChamberMaster//Event Calendar 2.0//EN
METHOD:PUBLISH
X-PUBLISHED-TTL:P3D
REFRESH-INTERVAL:P3D
CALSCALE:GREGORIAN
BEGIN:VEVENT
DTSTART;VALUE=DATE:20200704
DTEND;VALUE=DATE:20200705
TRANSP:TRANSPARENT
X-MICROSOFT-CDO-ALLDAYEVENT:TRUE
SUMMARY:DHR Plasma Donations
DESCRIPTION:Chamber member DHR Health is seeking plasma donors due to the critical increase in COVID-19 hospitalizations in the RGV. There is no cost to participate\, and if eligible\, you will be compensated for participation. Call 956-215-3166 or 504-444-2318 for more info.
X-ALT-DESC;FMTTYPE=text/html:<span data-offset-key="6vgjn-0-0" style="font-family: Helvetica\, Arial\, sans-serif\; color: rgb(28\, 30\, 33)\; font-size: 14px\; white-space: pre-wrap\;"><span data-text="true" style="font-family: inherit\;">Chamber member </span></span><span class="_247o" data-offset-key="6vgjn-1-0" spellcheck="false" style="background-color: rgb(220\, 230\, 248)\; font-family: Helvetica\, Arial\, sans-serif\; color: rgb(28\, 30\, 33)\; font-size: 14px\; white-space: pre-wrap\;"><span data-offset-key="6vgjn-1-0" style="font-family: inherit\;"><span data-text="true" style="font-family: inherit\;">DHR Health</span></span></span><span data-offset-key="6vgjn-2-0" style="font-family: Helvetica\, Arial\, sans-serif\; color: rgb(28\, 30\, 33)\; font-size: 14px\; white-space: pre-wrap\;"><span data-text="true" style="font-family: inherit\;"> is seeking plasma donors due to the critical increase in COVID-19 hospitalizations in the RGV. There is no cost to participate\, and if eligible\, you will be compensated for participation. Call 956-215-3166 or 504-444-2318 for more info.</span></span>
LOCATION:
UID:e.1244.19446
SEQUENCE:3
DTSTAMP:20260419T140002Z
URL:https://business.weslaco.com/events/details/dhr-plasma-donations-07-04-2020-19446
END:VEVENT

END:VCALENDAR
