BEGIN:VCALENDAR
VERSION:2.0
PRODID:-//ChamberMaster//Event Calendar 2.0//EN
METHOD:PUBLISH
X-PUBLISHED-TTL:P3D
REFRESH-INTERVAL:P3D
CALSCALE:GREGORIAN
BEGIN:VEVENT
DTSTART:20150730T230000Z
DTEND:20150731T010000Z
X-MICROSOFT-CDO-ALLDAYEVENT:FALSE
SUMMARY:DHR Symposium: The Future of Healthcare in the RGV
DESCRIPTION:Doctors Hospital at Renaissance invites you to attend a symposium on The Future of Healthcare in the RGV with a special presentation by Dr. Guy Bailey\, UTRGV President and Dr. Franscisco Fernandez\, MD\, UTRGV Vice President of Medical Affairs and Dean of the School of Medicine
X-ALT-DESC;FMTTYPE=text/html:Doctors Hospital at Renaissance invites you to attend a symposium on The Future of Healthcare in the RGV with a special presentation by Dr. Guy Bailey\, UTRGV President and Dr. Franscisco Fernandez\, MD\, UTRGV Vice President of Medical Affairs and Dean of the School of Medicine
LOCATION:Edinburg Conference Center at Renaissance 118 Paseo del Prado Edinburg\, TX 78539
UID:e.1244.6710
SEQUENCE:3
DTSTAMP:20260423T145318Z
URL:https://business.weslaco.com/events/details/dhr-symposium-the-future-of-healthcare-in-the-rgv-07-30-2015-6710
END:VEVENT

END:VCALENDAR
