BEGIN:VCALENDAR
VERSION:2.0
PRODID:-//ChamberMaster//Event Calendar 2.0//EN
METHOD:PUBLISH
X-PUBLISHED-TTL:P3D
REFRESH-INTERVAL:P3D
CALSCALE:GREGORIAN
BEGIN:VEVENT
DTSTART:20190504T180000Z
DTEND:20190504T210000Z
X-MICROSOFT-CDO-ALLDAYEVENT:FALSE
SUMMARY:Dia de las Madres Poetry at Mayor Joe V. Sanchez Library
DESCRIPTION:Mayor Joe V. Sanchez Public Library and El Club de Letras y Arte are celebrating Mother's Day with poetry\, music and gifts!
X-ALT-DESC;FMTTYPE=text/html:<span style="color: rgb(28\, 30\, 33)\; font-family: Helvetica\, Arial\, sans-serif\; font-size: 14px\; white-space: pre-wrap\;">Mayor Joe V. Sanchez Public Library and El Club de Letras y Arte are celebrating Mother&rsquo\;s Day with poetry\, music and gifts! </span>
LOCATION:Mayor Joe V. Sanchez Public Library\, 525 S. Kansas Ave.
UID:e.1244.18135
SEQUENCE:3
DTSTAMP:20260420T113817Z
URL:https://business.weslaco.com/events/details/dia-de-las-madres-poetry-at-mayor-joe-v-sanchez-library-18135
END:VEVENT

END:VCALENDAR
