BEGIN:VCALENDAR
VERSION:2.0
PRODID:-//ChamberMaster//Event Calendar 2.0//EN
METHOD:PUBLISH
X-PUBLISHED-TTL:P3D
REFRESH-INTERVAL:P3D
CALSCALE:GREGORIAN
BEGIN:VEVENT
DTSTART:20191102T180000Z
DTEND:20191102T220000Z
X-MICROSOFT-CDO-ALLDAYEVENT:FALSE
SUMMARY:Dia De Los Muertos Celebration
DESCRIPTION:Join us for live music\, food\, drinks & a kiddie area! Dia de los Muertos (the Day of the Dead)\, is a day of remembrance and celebration for our loved ones who have passed away. For more information\, please call 956-968-7533
X-ALT-DESC;FMTTYPE=text/html:Join us for live music\, food\, drinks &amp\; a kiddie area! Dia de los Muertos (the Day of the Dead)\, is a day of remembrance and celebration for our loved ones who have passed away. For more information\, please call 956-968-7533
LOCATION:Sacred Park Cemetery 12506 Mile 2 West Rd. Mercedes\, TX 78570
UID:e.1244.18816
SEQUENCE:3
DTSTAMP:20260420T013349Z
URL:https://business.weslaco.com/events/details/dia-de-los-muertos-celebration-18816
END:VEVENT

END:VCALENDAR
