BEGIN:VCALENDAR
VERSION:2.0
PRODID:-//ChamberMaster//Event Calendar 2.0//EN
METHOD:PUBLISH
X-PUBLISHED-TTL:P3D
REFRESH-INTERVAL:P3D
CALSCALE:GREGORIAN
BEGIN:VEVENT
DTSTART:20150728T223000Z
DTEND:20150729T000000Z
X-MICROSOFT-CDO-ALLDAYEVENT:FALSE
SUMMARY:Diabetes Wellness Cooking Class at Frontera Audubon
DESCRIPTION:The Rio Grande Valley Diabetes Association (RGVDA)\, in partnership with Frontera Audubon\, offers cooking classes led by a registered dietitian every other month for adults with or at risk of diabetes in the Mid Valley.  The free class will focus on the importance of a healthy diet for those with diabetes.
X-ALT-DESC;FMTTYPE=text/html:The Rio Grande Valley Diabetes Association (RGVDA)\, in partnership with Frontera Audubon\, offers cooking classes led by a registered dietitian every other month for adults with or at risk of diabetes in the Mid Valley. &nbsp\;The free class will focus on the importance of a healthy diet for those with diabetes.
LOCATION:Frontera Audubon 1101 S. Texas
UID:e.1244.6701
SEQUENCE:3
DTSTAMP:20260423T150117Z
URL:https://business.weslaco.com/events/details/diabetes-wellness-cooking-class-at-frontera-audubon-07-28-2015-6701
END:VEVENT

END:VCALENDAR
