BEGIN:VCALENDAR
VERSION:2.0
PRODID:-//ChamberMaster//Event Calendar 2.0//EN
METHOD:PUBLISH
X-PUBLISHED-TTL:P3D
REFRESH-INTERVAL:P3D
CALSCALE:GREGORIAN
BEGIN:VEVENT
DTSTART:20190302T230000Z
DTEND:20190303T010000Z
X-MICROSOFT-CDO-ALLDAYEVENT:FALSE
SUMMARY:Dinner By The Pool
DESCRIPTION:Dinner By The Pool
X-ALT-DESC;FMTTYPE=text/html:Dinner By The Pool
LOCATION:Vicotria Palms Resort Pool 602 N Victoria Rd\, Donna\, TX 78537
UID:e.1244.17099
SEQUENCE:3
DTSTAMP:20260420T143723Z
URL:https://business.weslaco.com/events/details/dinner-by-the-pool-17099
END:VEVENT

END:VCALENDAR
