BEGIN:VCALENDAR
VERSION:2.0
PRODID:-//ChamberMaster//Event Calendar 2.0//EN
METHOD:PUBLISH
X-PUBLISHED-TTL:P3D
REFRESH-INTERVAL:P3D
CALSCALE:GREGORIAN
BEGIN:VEVENT
DTSTART:20220612T010000Z
DTEND:20220612T030000Z
X-MICROSOFT-CDO-ALLDAYEVENT:FALSE
SUMMARY:Discovery Nights at Estero Llano Grande
DESCRIPTION:
X-ALT-DESC;FMTTYPE=text/html:
LOCATION:
UID:e.1244.21603
SEQUENCE:3
DTSTAMP:20260421T134821Z
URL:https://business.weslaco.com/events/details/discovery-nights-at-estero-llano-grande-21603
END:VEVENT

END:VCALENDAR
