BEGIN:VCALENDAR
VERSION:2.0
PRODID:-//ChamberMaster//Event Calendar 2.0//EN
METHOD:PUBLISH
X-PUBLISHED-TTL:P3D
REFRESH-INTERVAL:P3D
CALSCALE:GREGORIAN
BEGIN:VEVENT
DTSTART:20200716T150000Z
DTEND:20200716T160000Z
X-MICROSOFT-CDO-ALLDAYEVENT:FALSE
SUMMARY:Diversity & Inclusion Best Practices for My Business
DESCRIPTION:Join us for a conversation about diversity and inclusion with Jessica Estevez\, co-founder of Estrategia Group\, an organization focused on building capacity for equity in leadership.\n\n\n\nRegister: https://us02web.zoom.us/j/85142094578?pwd=ak12allTSkxwMFF1WlJmc1NITmY2Zz09
X-ALT-DESC;FMTTYPE=text/html:Join us for a conversation about diversity and inclusion with Jessica Estevez\, co-founder of Estrategia Group\, an organization focused on building capacity for equity in leadership.<br />\n<br />\nRegister:&nbsp\;<a href="https://us02web.zoom.us/j/85142094578?pwd=ak12allTSkxwMFF1WlJmc1NITmY2Zz09">https://us02web.zoom.us/j/85142094578?pwd=ak12allTSkxwMFF1WlJmc1NITmY2Zz09</a><br />\n&nbsp\;
LOCATION:Zoom
UID:e.1244.19488
SEQUENCE:3
DTSTAMP:20260419T123436Z
URL:https://business.weslaco.com/events/details/diversity-inclusion-best-practices-for-my-business-19488
END:VEVENT

END:VCALENDAR
