BEGIN:VCALENDAR
VERSION:2.0
PRODID:-//ChamberMaster//Event Calendar 2.0//EN
METHOD:PUBLISH
X-PUBLISHED-TTL:P3D
REFRESH-INTERVAL:P3D
CALSCALE:GREGORIAN
BEGIN:VEVENT
DTSTART:20191017T160000Z
DTEND:20191017T170000Z
X-MICROSOFT-CDO-ALLDAYEVENT:FALSE
SUMMARY:Don Pedro's Restaurant Ribbon Cutting and Grand Opening
DESCRIPTION:20% off and free aguas frescas all day! Open daily 10 am to 10 pm.
X-ALT-DESC;FMTTYPE=text/html:20% off and free aguas frescas all day! Open daily 10 am to 10 pm.
LOCATION:2708 N. Texas Blvd. Weslaco\, TX
UID:e.1244.18784
SEQUENCE:3
DTSTAMP:20260420T030859Z
URL:https://business.weslaco.com/events/details/don-pedro-s-restaurant-ribbon-cutting-and-grand-opening-18784
END:VEVENT

END:VCALENDAR
