BEGIN:VCALENDAR
VERSION:2.0
PRODID:-//ChamberMaster//Event Calendar 2.0//EN
METHOD:PUBLISH
X-PUBLISHED-TTL:P3D
REFRESH-INTERVAL:P3D
CALSCALE:GREGORIAN
BEGIN:VEVENT
DTSTART:20180726T231500Z
DTEND:20180727T003000Z
X-MICROSOFT-CDO-ALLDAYEVENT:FALSE
SUMMARY:Downtown Weslaco Business Workshop
DESCRIPTION:Workshop opportunity for Downtown Weslaco Business owners & managers:\n\nJoin us as we examine:\n\n\n	How can I grow my business?\n	Who is the Weslaco consuemr?\n	Where do they live?\n	How often do they shop in Weslaco?\n	What is "retail leakage"?\n	Learn tips & trends for retail businesses
X-ALT-DESC;FMTTYPE=text/html:<p>Workshop opportunity for Downtown Weslaco Business owners &amp\; managers:<br />\nJoin us as we examine:</p>\n\n<ul>\n	<li>How can I grow my business?</li>\n	<li>Who is the Weslaco consuemr?</li>\n	<li>Where do they live?</li>\n	<li>How often do they shop in Weslaco?</li>\n	<li>What is &quot\;retail leakage&quot\;?</li>\n	<li>Learn tips &amp\; trends for retail businesses</li>\n</ul>\n
LOCATION:Business Visitor & Event Center 275 S. Kansas Ave.
UID:e.1244.16931
SEQUENCE:3
DTSTAMP:20260421T043816Z
URL:https://business.weslaco.com/events/details/downtown-weslaco-business-workshop-16931
END:VEVENT

END:VCALENDAR
