BEGIN:VCALENDAR
VERSION:2.0
PRODID:-//ChamberMaster//Event Calendar 2.0//EN
METHOD:PUBLISH
X-PUBLISHED-TTL:P3D
REFRESH-INTERVAL:P3D
CALSCALE:GREGORIAN
BEGIN:VEVENT
DTSTART:20190302T200000Z
DTEND:20190302T230000Z
X-MICROSOFT-CDO-ALLDAYEVENT:FALSE
SUMMARY:Dr. Seuss's Birthday at Mayor Joe V. Sanchez Public Library
DESCRIPTION:Celebration of Dr. Seuss Birthday with special guest Ramon Ramirez cartoonist. A fun event for the whole family! Come dressed in your favorite Dr. Seuss costume! Goodie bags for the first 100 kids!
X-ALT-DESC;FMTTYPE=text/html:Celebration of Dr. Seuss Birthday with special guest Ramon Ramirez cartoonist. A fun event for the whole family! Come dressed in your favorite Dr. Seuss costume! Goodie bags for the first 100 kids!
LOCATION:Mayor Joe V. Sanchez Public Library
UID:e.1244.17106
SEQUENCE:3
DTSTAMP:20260420T144336Z
URL:https://business.weslaco.com/events/details/dr-seuss-s-birthday-at-mayor-joe-v-sanchez-public-library-17106
END:VEVENT

END:VCALENDAR
