BEGIN:VCALENDAR
VERSION:2.0
PRODID:-//ChamberMaster//Event Calendar 2.0//EN
METHOD:PUBLISH
X-PUBLISHED-TTL:P3D
REFRESH-INTERVAL:P3D
CALSCALE:GREGORIAN
BEGIN:VEVENT
DTSTART:20150418T140000Z
DTEND:20150418T190000Z
X-MICROSOFT-CDO-ALLDAYEVENT:FALSE
SUMMARY:Earth Day at Frontera Audubon
DESCRIPTION:Student volunteers from Weslaco High School invite you to bring your family out to Frontera Audubon Sanctuary this Saturday from 9 a.m. to 2 p.m. to celebrate the earth through hands-on crafts and activities such as crafting unique bird feeders\, creating a colorful butterfly\, and other stations\, including face painting. Students will also guide participants on a walk in the 15-acre Thicket forest. The nature sanctuary is located at 1101 S. Texas Blvd. in Weslaco\, and a $2 donation is requested per accompanying adult. Hot dogs will be served for lunch. For more information\, call 956-968-3275.
X-ALT-DESC;FMTTYPE=text/html:Student volunteers from Weslaco High School invite you to bring your family out to Frontera Audubon Sanctuary this Saturday from 9 a.m. to 2 p.m. to celebrate the earth through hands-on crafts and activities such as crafting unique bird feeders\, creating a colorful butterfly\, and other stations\, including face painting. Students will also guide participants on a walk in the 15-acre Thicket forest. The nature sanctuary is located at 1101 S. Texas Blvd. in Weslaco\, and a $2 donation is requested per accompanying adult. Hot dogs will be served for lunch. For more information\, call 956-968-3275.
LOCATION:Frontera Audubon 1101 S. Texas Weslaco\, TX
UID:e.1244.6266
SEQUENCE:3
DTSTAMP:20260423T210329Z
URL:https://business.weslaco.com/events/details/earth-day-at-frontera-audubon-04-18-2015-6266
END:VEVENT

END:VCALENDAR
