BEGIN:VCALENDAR
VERSION:2.0
PRODID:-//ChamberMaster//Event Calendar 2.0//EN
METHOD:PUBLISH
X-PUBLISHED-TTL:P3D
REFRESH-INTERVAL:P3D
CALSCALE:GREGORIAN
BEGIN:VEVENT
DTSTART:20170422T150000Z
DTEND:20170422T190000Z
X-MICROSOFT-CDO-ALLDAYEVENT:FALSE
SUMMARY:Earth Day at Frontera Audubon
DESCRIPTION:What on Earth are you doing for Earth Day? Join the WHS Earth Club at Frontera Audubon this Earth Day (Saturday\, April 22) for some nice green fun!\n\n\n\nActivities include:\n\n  Arts & crafts using recycled materials\n\n  Nature crayon rubbings\n\n  Making butterfly ornaments\n\n  Water coloring\n\n  Scavenger hunt\n\n\n\nThere will be concession items for sale including hotdogs\, popcorn\, and drinks!\n\n\n\nMake EVERY day EARTH day!\n\nReduce. Reuse. Recycle. Restore. Replenish.
X-ALT-DESC;FMTTYPE=text/html:<span class="_4n-j _fbReactionComponent__eventDetailsContentTags fsl" data-testid="event-permalink-details">What on Earth are you doing for Earth Day? Join the WHS Earth Club at Frontera Audubon this Earth Day (Saturday\, April 22) for some nice green fun!<br />\n<br />\nActivities include:<br />\n&#10625\; Arts &amp\; crafts using recycled materials<br />\n&#10625\; Nature crayon rubbings<br />\n&#10625\; Making butterfly ornaments<br />\n&#10625\; Water coloring<br />\n&#10625\; Scavenger hunt<br />\n<br />\nThere will be concession items for sale including hotdogs\, popcorn\, and drinks!<br />\n<br />\nMake EVERY day EARTH day!<br />\nReduce. Reuse. Recycle. Restore. Replenish.</span>
LOCATION:Frontera Audubon 1101 S. Texas
UID:e.1244.11965
SEQUENCE:3
DTSTAMP:20260422T065132Z
URL:https://business.weslaco.com/events/details/earth-day-at-frontera-audubon-11965
END:VEVENT

END:VCALENDAR
