BEGIN:VCALENDAR
VERSION:2.0
PRODID:-//ChamberMaster//Event Calendar 2.0//EN
METHOD:PUBLISH
X-PUBLISHED-TTL:P3D
REFRESH-INTERVAL:P3D
CALSCALE:GREGORIAN
BEGIN:VEVENT
DTSTART:20180421T140000Z
DTEND:20180421T170000Z
X-MICROSOFT-CDO-ALLDAYEVENT:FALSE
SUMMARY:Earth Day at Frontera Audubon
DESCRIPTION:What on Earth are you doing for Earth Day? Join the WHS Earth Club at Frontera Audubon this Earth Day (Saturday\, April 21) for some nice green fun!\n\n\n\nThere will be concession items for sale including hotdogs\, popcorn\, and drinks!\n\n\n\nMake EVERY day EARTH day!\n\nReduce. Reuse. Recycle. Restore. Replenish.
X-ALT-DESC;FMTTYPE=text/html:<span class="_4n-j _fbReactionComponent__eventDetailsContentTags fsl" data-testid="event-permalink-details">What on Earth are you doing for Earth Day? Join the WHS Earth Club at Frontera Audubon this Earth Day (Saturday\, April 21) for some nice green fun!<br />\n<br />\nThere will be concession items for sale including hotdogs\, popcorn\, and drinks!<br />\n<br />\nMake EVERY day EARTH day!<br />\nReduce. Reuse. Recycle. Restore. Replenish.</span>
LOCATION:Frontera Audubon 1101 S. Texas
UID:e.1244.16865
SEQUENCE:3
DTSTAMP:20260421T105950Z
URL:https://business.weslaco.com/events/details/earth-day-at-frontera-audubon-16865
END:VEVENT

END:VCALENDAR
