BEGIN:VCALENDAR
VERSION:2.0
PRODID:-//ChamberMaster//Event Calendar 2.0//EN
METHOD:PUBLISH
X-PUBLISHED-TTL:P3D
REFRESH-INTERVAL:P3D
CALSCALE:GREGORIAN
BEGIN:VEVENT
DTSTART:20190413T150000Z
DTEND:20190413T190000Z
X-MICROSOFT-CDO-ALLDAYEVENT:FALSE
SUMMARY:Earth Day at Frontera Audubon
DESCRIPTION:Come celebrate Earth Day at Frontera with the WHS Earth Club! There will be face painting\, water coloring\, making plastic flowers\, arts & crafts and a walk through the trail! Concessions will also be available for purchase. Dare to be a force of Nature. Make it Earth Day. Everyday.
X-ALT-DESC;FMTTYPE=text/html:<span style="font-size: 14px\;">Come celebrate Earth Day at Frontera with the WHS Earth Club! There will be face painting\, water coloring\, making plastic flowers\, arts &amp\; crafts and a walk through the trail! Concessions will also be available for purchase. Dare to be a force of Nature. Make it Earth Day. Everyday. </span>
LOCATION:Frontera Audubon 1101 S. Texas Blvd.
UID:e.1244.18059
SEQUENCE:3
DTSTAMP:20260420T130228Z
URL:https://business.weslaco.com/events/details/earth-day-at-frontera-audubon-18059
END:VEVENT

END:VCALENDAR
