BEGIN:VCALENDAR
VERSION:2.0
PRODID:-//ChamberMaster//Event Calendar 2.0//EN
METHOD:PUBLISH
X-PUBLISHED-TTL:P3D
REFRESH-INTERVAL:P3D
CALSCALE:GREGORIAN
BEGIN:VEVENT
DTSTART:20190330T160000Z
DTEND:20190330T190000Z
X-MICROSOFT-CDO-ALLDAYEVENT:FALSE
SUMMARY:Earth Day at Valley Nature Center
DESCRIPTION:Earth Day at Valley Nature Center and Trails filled with activities for the whole family. Box lunch w/water for all the kids when you complete 50% of the activities! (While supplies last) Valley Nature Center's trails are wheelchair and scooter friendly. Bring your camera\, Bring a friend\, Make a memory. See you there. Like us on Facebook to keep up on the VNC news!
X-ALT-DESC;FMTTYPE=text/html:Earth Day at Valley Nature Center and Trails filled with activities for the whole family. Box lunch w/water for all the kids when you complete 50% of the activities! (While supplies last) Valley Nature Center&#39\;s trails are wheelchair and scooter friendly. Bring your camera\, Bring a friend\, Make a memory. See you there. Like us on Facebook to keep up on the VNC news!
LOCATION:Valley Nature Center 301 South Border Ave.
UID:e.1244.18052
SEQUENCE:3
DTSTAMP:20260420T144131Z
URL:https://business.weslaco.com/events/details/earth-day-at-valley-nature-center-18052
END:VEVENT

END:VCALENDAR
