BEGIN:VCALENDAR
VERSION:2.0
PRODID:-//ChamberMaster//Event Calendar 2.0//EN
METHOD:PUBLISH
X-PUBLISHED-TTL:P3D
REFRESH-INTERVAL:P3D
CALSCALE:GREGORIAN
BEGIN:VEVENT
DTSTART:20180422T123000Z
DTEND:20180422T170000Z
X-MICROSOFT-CDO-ALLDAYEVENT:FALSE
SUMMARY:Earth Day Nature Chaser Trail Run at Estero Llano Grande
DESCRIPTION:There is no better way to celebrate Earth Day than with a trail run at Estero Llano Grande State Park in Weslaco. Run either the Nature Chaser 5K or 10K route through the 250-acre park that features the largest wetland environment in the World Birding Center network. Experience the sites and sounds of birds\, butterflies\, turtles and if your lucky -- get to see some of the resident alligators in their natural habitat.
X-ALT-DESC;FMTTYPE=text/html:<span class="_4n-j _3cht fsl" data-testid="event-permalink-details">There is no better way to celebrate Earth Day than with a trail run at Estero Llano Grande State Park in Weslaco. Run either the Nature Chaser 5K or 10K route through the 250-acre park that features the largest wetland environment in the World Birding Center network. Experience the sites and sounds of birds\, butterflies\, turtles and if your lucky -- get to see some of the resident alligators in their natural habitat.</span>
LOCATION:Estero Llano Grande State Park 3301 S. International Blvd.
UID:e.1244.15857
SEQUENCE:3
DTSTAMP:20260421T110318Z
URL:https://business.weslaco.com/events/details/earth-day-nature-chaser-trail-run-at-estero-llano-grande-15857
END:VEVENT

END:VCALENDAR
