BEGIN:VCALENDAR
VERSION:2.0
PRODID:-//ChamberMaster//Event Calendar 2.0//EN
METHOD:PUBLISH
X-PUBLISHED-TTL:P3D
REFRESH-INTERVAL:P3D
CALSCALE:GREGORIAN
BEGIN:VEVENT
DTSTART:20190809T140000Z
DTEND:20190809T150000Z
X-MICROSOFT-CDO-ALLDAYEVENT:FALSE
SUMMARY:EDCOS 15th Anniversary Ribbon Cutting
DESCRIPTION:We're celebrating Export Distribution & Consulting Services (EDCOS) 15th Anniversary! The official ribbon cutting is at 9 am\, which kicks off a whole day of activities. \n\n9:00-10:30 AM Breakfast - Presentation by Buckeye Specialist\n\n12:00 PM - 1:30 PM Lunch - Presentation by TYCO Specialist\n\n2:00 PM - 5:00 PM HUGE Inventory Sale\n\n3:00 PM Presentation by Globe Sprinklers\n\n6:00 PM Dinner with live music\n\n \n\nRSVP to Maria at 956-565-5660
X-ALT-DESC;FMTTYPE=text/html:<div style="color: rgb(64\, 63\, 66)\; font-family: Arial\, Verdana\, Helvetica\, sans-serif\; font-size: 12px\; white-space: pre-wrap\;"><span style="font-size:14px\;"><span style="font-family: Helvetica\, Arial\, sans-serif\;">We&#39\;re celebrating Export Distribution &amp\; Consulting Services (EDCOS) 15th Anniversary! The official ribbon cutting is at 9 am\, which kicks off a whole day of activities. </span></span></div>\n\n<div style="color: rgb(64\, 63\, 66)\; font-family: Arial\, Verdana\, Helvetica\, sans-serif\; font-size: 12px\; white-space: pre-wrap\;"><span style="font-size:14px\;"><span style="color: rgb(0\, 0\, 0)\; font-family: Helvetica\, Arial\, sans-serif\;">9:00-10:30 AM Breakfast - Presentation by Buckeye Specialist</span></span></div>\n\n<div style="color: rgb(64\, 63\, 66)\; font-family: Arial\, Verdana\, Helvetica\, sans-serif\; font-size: 12px\; white-space: pre-wrap\;"><span style="font-size:14px\;"><span style="color: rgb(0\, 0\, 0)\; font-family: Helvetica\, Arial\, sans-serif\;">12:00 PM - 1:30 PM Lunch - Presentation by TYCO Specialist</span></span></div>\n\n<div style="color: rgb(64\, 63\, 66)\; font-family: Arial\, Verdana\, Helvetica\, sans-serif\; font-size: 12px\; white-space: pre-wrap\;"><span style="font-size:14px\;"><span style="color: rgb(0\, 0\, 0)\; font-family: Helvetica\, Arial\, sans-serif\;">2:00 PM - 5:00 PM HUGE Inventory Sale</span></span></div>\n\n<div style="color: rgb(64\, 63\, 66)\; font-family: Arial\, Verdana\, Helvetica\, sans-serif\; font-size: 12px\; white-space: pre-wrap\;"><span style="font-size:14px\;"><span style="color: rgb(0\, 0\, 0)\; font-family: Helvetica\, Arial\, sans-serif\;">3:00 PM Presentation by Globe Sprinklers</span></span></div>\n\n<div style="color: rgb(64\, 63\, 66)\; font-family: Arial\, Verdana\, Helvetica\, sans-serif\; font-size: 12px\; white-space: pre-wrap\;"><span style="font-size:14px\;"><span style="color: rgb(0\, 0\, 0)\; font-family: Helvetica\, Arial\, sans-serif\;">6:00 PM Dinner with live music</span></span></div>\n\n<div style="color: rgb(64\, 63\, 66)\; font-family: Arial\, Verdana\, Helvetica\, sans-serif\; font-size: 12px\; white-space: pre-wrap\;">&nbsp\;</div>\n\n<div style="color: rgb(64\, 63\, 66)\; font-family: Arial\, Verdana\, Helvetica\, sans-serif\; font-size: 12px\; white-space: pre-wrap\;"><span style="font-size:14px\;"><span style="color: rgb(0\, 0\, 0)\; font-family: Helvetica\, Arial\, sans-serif\;">RSVP to Maria at 956-565-5660</span></span></div>\n
LOCATION:330 Industrial Park Mercedes\, TX
UID:e.1244.18724
SEQUENCE:3
DTSTAMP:20260420T062345Z
URL:https://business.weslaco.com/events/details/edcos-15th-anniversary-ribbon-cutting-18724
END:VEVENT

END:VCALENDAR
