BEGIN:VCALENDAR
VERSION:2.0
PRODID:-//ChamberMaster//Event Calendar 2.0//EN
METHOD:PUBLISH
X-PUBLISHED-TTL:P3D
REFRESH-INTERVAL:P3D
CALSCALE:GREGORIAN
BEGIN:VEVENT
DTSTART:20151029T160000Z
DTEND:20151029T190000Z
X-MICROSOFT-CDO-ALLDAYEVENT:FALSE
SUMMARY:Edwards Abstract and Title Open House and Ribbon Cutting Ceremony
DESCRIPTION:Halloween No Tricks Just Treats Open House & Ribbon Cutting at Edwards Abstract and Title Co. Enjoy lots of Halloween treats\, lunch\, special desserts\, cookies\, candies plus lots more!
X-ALT-DESC;FMTTYPE=text/html:Halloween No Tricks Just Treats Open House &amp\; Ribbon Cutting at Edwards Abstract and Title Co.&nbsp\;Enjoy lots of Halloween treats\, lunch\, special desserts\, cookies\, candies plus lots more! &nbsp\;
LOCATION:Edwards Abstract and Title Co. 2290 W. Pike Blvd\, Ste. 101
UID:e.1244.8747
SEQUENCE:3
DTSTAMP:20260423T113116Z
URL:https://business.weslaco.com/events/details/edwards-abstract-and-title-open-house-and-ribbon-cutting-ceremony-10-29-2015-8747
END:VEVENT

END:VCALENDAR
