BEGIN:VCALENDAR
VERSION:2.0
PRODID:-//ChamberMaster//Event Calendar 2.0//EN
METHOD:PUBLISH
X-PUBLISHED-TTL:P3D
REFRESH-INTERVAL:P3D
CALSCALE:GREGORIAN
BEGIN:VEVENT
DTSTART:20160803T220000Z
DTEND:20160803T230000Z
X-MICROSOFT-CDO-ALLDAYEVENT:FALSE
SUMMARY:El Ahuehuete Tequila Grill Ribbon Cutting
DESCRIPTION:
X-ALT-DESC;FMTTYPE=text/html:
LOCATION:2708 N. Texas Blvd Weslaco
UID:e.1244.10994
SEQUENCE:3
DTSTAMP:20260422T184602Z
URL:https://business.weslaco.com/events/details/el-ahuehuete-tequila-grill-ribbon-cutting-08-03-2016-10994
END:VEVENT

END:VCALENDAR
