BEGIN:VCALENDAR
VERSION:2.0
PRODID:-//ChamberMaster//Event Calendar 2.0//EN
METHOD:PUBLISH
X-PUBLISHED-TTL:P3D
REFRESH-INTERVAL:P3D
CALSCALE:GREGORIAN
BEGIN:VEVENT
DTSTART:20150207T160000Z
DTEND:20150207T170000Z
X-MICROSOFT-CDO-ALLDAYEVENT:FALSE
SUMMARY:El Mesteno Ranch by Camille Smith
DESCRIPTION:Presentation on El Mesteno Ranch by Camille Smith.  Please plan to attend and bring a friend. Start your Saturday morning at Valley Nature Center.  Coffee and pastries will be served\, see you there! Valley Nature Center's trails are wheelchair and scooter friendly. Bring your camera\, Bring a friend\, Make a memory. See you there. Like us on FaceBook to keep up on the VNC news!
X-ALT-DESC;FMTTYPE=text/html:Presentation on&nbsp\;El Mesteno Ranch by&nbsp\;Camille Smith. &nbsp\;Please plan to attend and bring a friend. Start your Saturday morning at Valley Nature Center. &nbsp\;Coffee and pastries will be served\, see you there! Valley Nature Center&#39\;s trails are wheelchair and scooter friendly. Bring your camera\, Bring a friend\, Make a memory. See you there. Like us on FaceBook to keep up on the VNC news!
LOCATION:Valley Nature Center 301 South Border Ave.
UID:e.1244.6035
SEQUENCE:3
DTSTAMP:20260423T224705Z
URL:https://business.weslaco.com/events/details/el-mesteno-ranch-by-camille-smith-02-07-2015-6035
END:VEVENT

END:VCALENDAR
