BEGIN:VCALENDAR
VERSION:2.0
PRODID:-//ChamberMaster//Event Calendar 2.0//EN
METHOD:PUBLISH
X-PUBLISHED-TTL:P3D
REFRESH-INTERVAL:P3D
CALSCALE:GREGORIAN
BEGIN:VEVENT
DTSTART:20150728T133000Z
DTEND:20150728T170000Z
X-MICROSOFT-CDO-ALLDAYEVENT:FALSE
SUMMARY:Employer Outreach Forum
DESCRIPTION:The Weslaco EDC invites you to attend an Employer Outreach Forum to inform business owners and employers about resources available to them via:\n\n\n	STC Department of Continuing Professional and Workforce Education\n	STC Office of Industry Training and Economic Development\n	Texas Department of Assistive and Rehabilitative Services\n	UTPA Small Business Development Center\n	Workforce Solutions
X-ALT-DESC;FMTTYPE=text/html:<p>The Weslaco EDC invites you to attend an Employer Outreach Forum to inform business owners and employers about resources available to them via:</p>\n\n<ul>\n	<li>STC Department of Continuing Professional and Workforce Education</li>\n	<li>STC Office of Industry Training and Economic Development</li>\n	<li>Texas Department of Assistive and Rehabilitative Services</li>\n	<li>UTPA Small Business Development Center</li>\n	<li>Workforce Solutions</li>\n</ul>\n
LOCATION:Weslaco Business Visitor and Event Center 275 S. Kansas Weslaco\, TX
UID:e.1244.6705
SEQUENCE:3
DTSTAMP:20260423T162303Z
URL:https://business.weslaco.com/events/details/employer-outreach-forum-07-28-2015-6705
END:VEVENT

END:VCALENDAR
