BEGIN:VCALENDAR
VERSION:2.0
PRODID:-//ChamberMaster//Event Calendar 2.0//EN
METHOD:PUBLISH
X-PUBLISHED-TTL:P3D
REFRESH-INTERVAL:P3D
CALSCALE:GREGORIAN
BEGIN:VEVENT
DTSTART:20230921T190000Z
DTEND:20230921T210000Z
X-MICROSOFT-CDO-ALLDAYEVENT:FALSE
SUMMARY:Estero Llano Grande State Park: Electric Tram Tour
DESCRIPTION:
X-ALT-DESC;FMTTYPE=text/html:
LOCATION:Estero Llano Grande State Park 3301 S. International Blvd FM 1015 \, Weslaco\, Tx 78596
UID:e.1244.21016
SEQUENCE:3
DTSTAMP:20260420T084046Z
URL:https://business.weslaco.com/events/details/estero-llano-grande-state-park-tram-tour-09-21-2023-21016
END:VEVENT

END:VCALENDAR
